BEGIN:VCALENDAR
VERSION:2.0
PRODID:-//Tahoma Values - ECPv6.15.20//NONSGML v1.0//EN
CALSCALE:GREGORIAN
METHOD:PUBLISH
X-ORIGINAL-URL:https://tahomavalues.com
X-WR-CALDESC:Events for Tahoma Values
REFRESH-INTERVAL;VALUE=DURATION:PT1H
X-Robots-Tag:noindex
X-PUBLISHED-TTL:PT1H
BEGIN:VTIMEZONE
TZID:UTC
BEGIN:STANDARD
TZOFFSETFROM:+0000
TZOFFSETTO:+0000
TZNAME:UTC
DTSTART:20210101T000000
END:STANDARD
END:VTIMEZONE
BEGIN:VEVENT
DTSTART;TZID=UTC:20221220T183000
DTEND;TZID=UTC:20221220T213000
DTSTAMP:20260423T232338
CREATED:20221019T233845Z
LAST-MODIFIED:20221019T233845Z
UID:2567-1671561000-1671571800@tahomavalues.com
SUMMARY:School Board Meeting - Regular
DESCRIPTION:All regular board meetings are held on the second Tuesday of the month except July\, August\, September and December (Executive Session at 6:00 p.m.)\, and the fourth Tuesday of the month except December which is held on the third Tuesday in December (Executive Session at 5:30 p.m.) unless otherwise posted. Meetings are held in the Central Services Center Board Room unless otherwise specified. Open sessions for regular board meetings begin at 6:30 p.m. *Individuals with disabilities who may need a modification to participate in a meeting should contact the superintendent’s office no later than three days before a regular meeting so that special arrangements can be made.
URL:https://tahomavalues.com/event/school-board-meeting-regular-4/
LOCATION:TSD Central Services\, 25720 Maple Valley Black Diamond Rd SE\, Maple Valley\, WA\, 98038\, United States
CATEGORIES:School Board Meeting
END:VEVENT
BEGIN:VEVENT
DTSTART;TZID=UTC:20221122T183000
DTEND;TZID=UTC:20221122T213000
DTSTAMP:20260423T232338
CREATED:20221019T233758Z
LAST-MODIFIED:20221019T233758Z
UID:2565-1669141800-1669152600@tahomavalues.com
SUMMARY:School Board Meeting - Regular
DESCRIPTION:All regular board meetings are held on the second Tuesday of the month except July\, August\, September and December (Executive Session at 6:00 p.m.)\, and the fourth Tuesday of the month except December which is held on the third Tuesday in December (Executive Session at 5:30 p.m.) unless otherwise posted. Meetings are held in the Central Services Center Board Room unless otherwise specified. Open sessions for regular board meetings begin at 6:30 p.m. *Individuals with disabilities who may need a modification to participate in a meeting should contact the superintendent’s office no later than three days before a regular meeting so that special arrangements can be made.
URL:https://tahomavalues.com/event/school-board-meeting-regular-3/
LOCATION:TSD Central Services\, 25720 Maple Valley Black Diamond Rd SE\, Maple Valley\, WA\, 98038\, United States
CATEGORIES:School Board Meeting
END:VEVENT
BEGIN:VEVENT
DTSTART;TZID=UTC:20221108T183000
DTEND;TZID=UTC:20221108T213000
DTSTAMP:20260423T232338
CREATED:20221019T233711Z
LAST-MODIFIED:20221019T233711Z
UID:2563-1667932200-1667943000@tahomavalues.com
SUMMARY:School Board Meeting - Regular
DESCRIPTION:All regular board meetings are held on the second Tuesday of the month except July\, August\, September and December (Executive Session at 6:00 p.m.)\, and the fourth Tuesday of the month except December which is held on the third Tuesday in December (Executive Session at 5:30 p.m.) unless otherwise posted. Meetings are held in the Central Services Center Board Room unless otherwise specified. Open sessions for regular board meetings begin at 6:30 p.m. *Individuals with disabilities who may need a modification to participate in a meeting should contact the superintendent’s office no later than three days before a regular meeting so that special arrangements can be made.
URL:https://tahomavalues.com/event/school-board-meeting-regular-2/
LOCATION:TSD Central Services\, 25720 Maple Valley Black Diamond Rd SE\, Maple Valley\, WA\, 98038\, United States
CATEGORIES:School Board Meeting
END:VEVENT
BEGIN:VEVENT
DTSTART;TZID=UTC:20221025T183000
DTEND;TZID=UTC:20221025T213000
DTSTAMP:20260423T232338
CREATED:20221019T233539Z
LAST-MODIFIED:20221019T233631Z
UID:2561-1666722600-1666733400@tahomavalues.com
SUMMARY:School Board Meeting - Regular
DESCRIPTION:All regular board meetings are held on the second Tuesday of the month except July\, August\, September and December (Executive Session at 6:00 p.m.)\, and the fourth Tuesday of the month except December which is held on the third Tuesday in December (Executive Session at 5:30 p.m.) unless otherwise posted. Meetings are held in the Central Services Center Board Room unless otherwise specified. Open sessions for regular board meetings begin at 6:30 p.m. *Individuals with disabilities who may need a modification to participate in a meeting should contact the superintendent’s office no later than three days before a regular meeting so that special arrangements can be made.
URL:https://tahomavalues.com/event/school-board-meeting-regular/
LOCATION:TSD Central Services\, 25720 Maple Valley Black Diamond Rd SE\, Maple Valley\, WA\, 98038\, United States
CATEGORIES:School Board Meeting
END:VEVENT
END:VCALENDAR