BEGIN:VCALENDAR
VERSION:2.0
PRODID:-//Tahoma Values - ECPv6.15.20//NONSGML v1.0//EN
CALSCALE:GREGORIAN
METHOD:PUBLISH
X-ORIGINAL-URL:https://tahomavalues.com
X-WR-CALDESC:Events for Tahoma Values
REFRESH-INTERVAL;VALUE=DURATION:PT1H
X-Robots-Tag:noindex
X-PUBLISHED-TTL:PT1H
BEGIN:VTIMEZONE
TZID:UTC
BEGIN:STANDARD
TZOFFSETFROM:+0000
TZOFFSETTO:+0000
TZNAME:UTC
DTSTART:20210101T000000
END:STANDARD
END:VTIMEZONE
BEGIN:VEVENT
DTSTART;TZID=UTC:20221112T100000
DTEND;TZID=UTC:20221112T160000
DTSTAMP:20260424T024705
CREATED:20221019T231240Z
LAST-MODIFIED:20221019T233005Z
UID:2542-1668247200-1668268800@tahomavalues.com
SUMMARY:Holiday Bazaar by the Tahoma Band Boosters
DESCRIPTION:
URL:https://tahomavalues.com/event/holiday-bazaar-by-the-tahoma-band-boosters/
LOCATION:Tahoma High School\, 23499 SE Tahoma Way\, Maple Valley\, WA\, 98038\, United States
CATEGORIES:Fundraisers
END:VEVENT
BEGIN:VEVENT
DTSTART;TZID=UTC:20221019T080000
DTEND;TZID=UTC:20221019T170000
DTSTAMP:20260424T024705
CREATED:20221019T232423Z
LAST-MODIFIED:20221019T233027Z
UID:2553-1666166400-1666198800@tahomavalues.com
SUMMARY:MOD Pizza Fundraiser: THS Sports Med Club
DESCRIPTION:MOD Pizza Fundraiser: October 19th is MOD Fundraiser Day for the THS Sports Med Club!! 20% of ALL\npurchases made at the Maple Valley location will get donated back to the program!! Go Bears!
URL:https://tahomavalues.com/event/mod-pizza-fundraiser-ths-sports-med-club/
CATEGORIES:Fundraisers
END:VEVENT
END:VCALENDAR