BEGIN:VCALENDAR
VERSION:2.0
PRODID:-//Tahoma Values - ECPv6.15.20//NONSGML v1.0//EN
CALSCALE:GREGORIAN
METHOD:PUBLISH
X-WR-CALNAME:Tahoma Values
X-ORIGINAL-URL:https://tahomavalues.com
X-WR-CALDESC:Events for Tahoma Values
REFRESH-INTERVAL;VALUE=DURATION:PT1H
X-Robots-Tag:noindex
X-PUBLISHED-TTL:PT1H
BEGIN:VTIMEZONE
TZID:UTC
BEGIN:STANDARD
TZOFFSETFROM:+0000
TZOFFSETTO:+0000
TZNAME:UTC
DTSTART:20210101T000000
END:STANDARD
END:VTIMEZONE
BEGIN:VEVENT
DTSTART;VALUE=DATE:20221108
DTEND;VALUE=DATE:20221109
DTSTAMP:20260424T032141
CREATED:20221019T232700Z
LAST-MODIFIED:20221019T232932Z
UID:2555-1667865600-1667951999@tahomavalues.com
SUMMARY:Election Day
DESCRIPTION:VOTE!
URL:https://tahomavalues.com/event/election-day/
CATEGORIES:Elections
ATTACH;FMTTYPE=image/png:https://tahomavalues.com/wp-content/uploads/2022/10/ivoted-didyou-english-green.png
END:VEVENT
END:VCALENDAR